BEGIN:VCALENDAR
VERSION:2.0
PRODID:-//DIOCESI DI ROMA - ECPv4.6.14.1//NONSGML v1.0//EN
CALSCALE:GREGORIAN
METHOD:PUBLISH
X-WR-CALNAME:DIOCESI DI ROMA
X-ORIGINAL-URL:https://www.diocesidiroma.it
X-WR-CALDESC:Eventi per DIOCESI DI ROMA
BEGIN:VEVENT
DTSTART;TZID=Europe/Rome:20250606T230000
DTEND;TZID=Europe/Rome:20250606T230000
DTSTAMP:20260424T114229
CREATED:20250530T091807Z
LAST-MODIFIED:20250530T091807Z
UID:35900-1749250800-1749250800@www.diocesidiroma.it
SUMMARY:Santa Messa a Santa Maria Maggiore in occasione del pellegrinaggio giubilare dei giovani della diocesi di Roma
DESCRIPTION:Santa Messa a Santa Maria Maggiore in occasione del pellegrinaggio giubilare dei giovani della diocesi di Roma \n
URL:https://www.diocesidiroma.it/event/santa-messa-a-santa-maria-maggiore-in-occasione-del-pellegrinaggio-giubilare-dei-giovani-della-diocesi-di-roma/
CATEGORIES:Vicario Generale
END:VEVENT
END:VCALENDAR