BEGIN:VCALENDAR
VERSION:2.0
PRODID:-//DIOCESI DI ROMA - ECPv4.6.14.1//NONSGML v1.0//EN
CALSCALE:GREGORIAN
METHOD:PUBLISH
X-WR-CALNAME:DIOCESI DI ROMA
X-ORIGINAL-URL:https://www.diocesidiroma.it
X-WR-CALDESC:Eventi per DIOCESI DI ROMA
BEGIN:VEVENT
DTSTART;TZID=Europe/Rome:20250604T180000
DTEND;TZID=Europe/Rome:20250604T180000
DTSTAMP:20260424T071700
CREATED:20250530T091320Z
LAST-MODIFIED:20250530T091320Z
UID:35886-1749060000-1749060000@www.diocesidiroma.it
SUMMARY:Santa Messa a Santa Maria Maggiore in occasione della memoria liturgica di Maria Santissima Salus Popoli Romani
DESCRIPTION:Santa Messa a Santa Maria Maggiore in occasione della memoria liturgica di Maria Santissima Salus Popoli Romani  \n
URL:https://www.diocesidiroma.it/event/santa-messa-a-santa-maria-maggiore-in-occasione-della-memoria-liturgica-di-maria-santissima-salus-popoli-romani/
CATEGORIES:Vicario Generale
END:VEVENT
END:VCALENDAR