BEGIN:VCALENDAR
VERSION:2.0
PRODID:-//DIOCESI DI ROMA - ECPv4.6.14.1//NONSGML v1.0//EN
CALSCALE:GREGORIAN
METHOD:PUBLISH
X-WR-CALNAME:DIOCESI DI ROMA
X-ORIGINAL-URL:https://www.diocesidiroma.it
X-WR-CALDESC:Eventi per DIOCESI DI ROMA
BEGIN:VEVENT
DTSTART;TZID=Europe/Rome:20251110T133000
DTEND;TZID=Europe/Rome:20251110T133000
DTSTAMP:20260423T163139
CREATED:20251107T104841Z
LAST-MODIFIED:20251107T104841Z
UID:38438-1762781400-1762781400@www.diocesidiroma.it
SUMMARY:Santa Messa all’Università di Tor Vergata
DESCRIPTION:Santa Messa all’Università di Tor Vergata \n
URL:https://www.diocesidiroma.it/event/santa-messa-alluniversita-di-tor-vergata/
CATEGORIES:Vicario Generale
END:VEVENT
END:VCALENDAR