BEGIN:VCALENDAR
VERSION:2.0
PRODID:-//DIOCESI DI ROMA - ECPv4.6.14.1//NONSGML v1.0//EN
CALSCALE:GREGORIAN
METHOD:PUBLISH
X-WR-CALNAME:DIOCESI DI ROMA
X-ORIGINAL-URL:https://www.diocesidiroma.it
X-WR-CALDESC:Eventi per DIOCESI DI ROMA
BEGIN:VEVENT
DTSTART;TZID=Europe/Rome:20251216T203000
DTEND;TZID=Europe/Rome:20251216T213000
DTSTAMP:20260422T013438
CREATED:20251212T133806Z
LAST-MODIFIED:20251212T133806Z
UID:39055-1765917000-1765920600@www.diocesidiroma.it
SUMMARY:Santa Messa con Agesci (zona Cassiopea) nella parrocchia San Lino
DESCRIPTION:Santa Messa con Agesci (zona Cassiopea) nella parrocchia San Lino \n
URL:https://www.diocesidiroma.it/event/santa-messa-con-agesci-zona-cassiopea-nella-parrocchia-san-lino/
CATEGORIES:Vicario Generale
END:VEVENT
END:VCALENDAR