BEGIN:VCALENDAR
VERSION:2.0
PRODID:-//DIOCESI DI ROMA - ECPv4.6.14.1//NONSGML v1.0//EN
CALSCALE:GREGORIAN
METHOD:PUBLISH
X-WR-CALNAME:DIOCESI DI ROMA
X-ORIGINAL-URL:https://www.diocesidiroma.it
X-WR-CALDESC:Eventi per DIOCESI DI ROMA
BEGIN:VEVENT
DTSTART;TZID=Europe/Rome:20250102T103000
DTEND;TZID=Europe/Rome:20250102T103000
DTSTAMP:20260425T022005
CREATED:20241230T073806Z
LAST-MODIFIED:20241230T073806Z
UID:32875-1735813800-1735813800@www.diocesidiroma.it
SUMMARY:Santa Messa con i giovani della Pastorale giovanile in partenza per La Verna
DESCRIPTION:Santa Messa con i giovani della Pastorale giovanile in partenza per La Verna \n
URL:https://www.diocesidiroma.it/event/santa-messa-con-i-giovani-della-pastorale-giovanile-in-partenza-per-la-verna/
CATEGORIES:Vicario Generale
END:VEVENT
END:VCALENDAR