BEGIN:VCALENDAR
VERSION:2.0
PRODID:-//DIOCESI DI ROMA - ECPv4.6.14.1//NONSGML v1.0//EN
CALSCALE:GREGORIAN
METHOD:PUBLISH
X-WR-CALNAME:DIOCESI DI ROMA
X-ORIGINAL-URL:https://www.diocesidiroma.it
X-WR-CALDESC:Eventi per DIOCESI DI ROMA
BEGIN:VEVENT
DTSTART;TZID=Europe/Rome:20260222T180000
DTEND;TZID=Europe/Rome:20260222T180000
DTSTAMP:20260420T201919
CREATED:20260213T084124Z
LAST-MODIFIED:20260213T084124Z
UID:39946-1771783200-1771783200@www.diocesidiroma.it
SUMMARY:Santa Messa con il rito dell’immissione canonica del nuovo parroco presso la parrocchia San Cirillo Alessandrino
DESCRIPTION:Santa Messa con il rito dell’immissione canonica del nuovo parroco presso la parrocchia San Cirillo Alessandrino \n
URL:https://www.diocesidiroma.it/event/santa-messa-con-il-rito-dellimmissione-canonica-del-nuovo-parroco-presso-la-parrocchia-san-cirillo-alessandrino/
CATEGORIES:Vicario Generale
END:VEVENT
END:VCALENDAR