BEGIN:VCALENDAR
VERSION:2.0
PRODID:-//DIOCESI DI ROMA - ECPv4.6.14.1//NONSGML v1.0//EN
CALSCALE:GREGORIAN
METHOD:PUBLISH
X-WR-CALNAME:DIOCESI DI ROMA
X-ORIGINAL-URL:https://www.diocesidiroma.it
X-WR-CALDESC:Eventi per DIOCESI DI ROMA
BEGIN:VEVENT
DTSTART;TZID=Europe/Rome:20251122T183000
DTEND;TZID=Europe/Rome:20251122T183000
DTSTAMP:20260421T105853
CREATED:20251114T093853Z
LAST-MODIFIED:20251114T093853Z
UID:38584-1763836200-1763836200@www.diocesidiroma.it
SUMMARY:Santa Messa con il rito dell’immissione canonica del nuovo parroco presso la parrocchia San Giovanni Battista de Rossi
DESCRIPTION: Santa Messa con il rito dell’immissione canonica del nuovo parroco presso la parrocchia San Giovanni Battista de Rossi \n
URL:https://www.diocesidiroma.it/event/santa-messa-con-il-rito-dellimmissione-canonica-del-nuovo-parroco-presso-la-parrocchia-san-giovanni-battista-de-rossi/
CATEGORIES:Vicario Generale
END:VEVENT
END:VCALENDAR