BEGIN:VCALENDAR
VERSION:2.0
PRODID:-//DIOCESI DI ROMA - ECPv4.6.14.1//NONSGML v1.0//EN
CALSCALE:GREGORIAN
METHOD:PUBLISH
X-WR-CALNAME:DIOCESI DI ROMA
X-ORIGINAL-URL:https://www.diocesidiroma.it
X-WR-CALDESC:Eventi per DIOCESI DI ROMA
BEGIN:VEVENT
DTSTART;TZID=Europe/Rome:20260207T180000
DTEND;TZID=Europe/Rome:20260207T180000
DTSTAMP:20260421T035454
CREATED:20260129T115654Z
LAST-MODIFIED:20260129T120037Z
UID:39722-1770487200-1770487200@www.diocesidiroma.it
SUMMARY:Santa Messa con il rito dell’immissione canonica del nuovo parroco presso la parrocchia Santa Maria della Presentazione
DESCRIPTION:Santa Messa con il rito dell’immissione canonica del nuovo parroco presso la parrocchia Santa Maria della Presentazione  \n
URL:https://www.diocesidiroma.it/event/santa-messa-con-il-rito-dellimmissione-canonica-del-nuovo-parroco-presso-la-parrocchia-santa-maria-della-presentazione/
CATEGORIES:Vicario Generale
END:VEVENT
END:VCALENDAR