BEGIN:VCALENDAR
VERSION:2.0
PRODID:-//DIOCESI DI ROMA - ECPv4.6.14.1//NONSGML v1.0//EN
CALSCALE:GREGORIAN
METHOD:PUBLISH
X-WR-CALNAME:DIOCESI DI ROMA
X-ORIGINAL-URL:https://www.diocesidiroma.it
X-WR-CALDESC:Eventi per DIOCESI DI ROMA
BEGIN:VEVENT
DTSTART;VALUE=DATE:20251116
DTEND;VALUE=DATE:20251117
DTSTAMP:20260421T041110
CREATED:20250910T120733Z
LAST-MODIFIED:20250910T120733Z
UID:36987-1763251200-1763337599@www.diocesidiroma.it
SUMMARY:Santa Messa e Angelus con il Santo Padre
DESCRIPTION:Santa Messa e Angelus con il Santo Padre (Uff. per la Pastorale della salute). \n
URL:https://www.diocesidiroma.it/event/santa-messa-e-angelus-con-il-santo-padre/
CATEGORIES:Iniziative degli Uffici
END:VEVENT
END:VCALENDAR