BEGIN:VCALENDAR
VERSION:2.0
PRODID:-//DIOCESI DI ROMA - ECPv4.6.14.1//NONSGML v1.0//EN
CALSCALE:GREGORIAN
METHOD:PUBLISH
X-WR-CALNAME:DIOCESI DI ROMA
X-ORIGINAL-URL:https://www.diocesidiroma.it
X-WR-CALDESC:Eventi per DIOCESI DI ROMA
BEGIN:VEVENT
DTSTART;TZID=Europe/Rome:20260221T173000
DTEND;TZID=Europe/Rome:20260221T173000
DTSTAMP:20260424T143430
CREATED:20260213T084009Z
LAST-MODIFIED:20260213T084009Z
UID:39942-1771695000-1771695000@www.diocesidiroma.it
SUMMARY:Santa Messa e rito dell'elezione dei catecumeni presso la basilica di San Giovanni in Laterano
DESCRIPTION:Santa Messa e rito dell’elezione dei catecumeni presso la basilica di San Giovanni in Laterano \n
URL:https://www.diocesidiroma.it/event/santa-messa-e-rito-dellelezione-dei-catecumeni-presso-la-basilica-di-san-giovanni-in-laterano/
CATEGORIES:Vicario Generale
END:VEVENT
END:VCALENDAR