BEGIN:VCALENDAR
VERSION:2.0
PRODID:-//DIOCESI DI ROMA - ECPv4.6.14.1//NONSGML v1.0//EN
CALSCALE:GREGORIAN
METHOD:PUBLISH
X-WR-CALNAME:DIOCESI DI ROMA
X-ORIGINAL-URL:https://www.diocesidiroma.it
X-WR-CALDESC:Eventi per DIOCESI DI ROMA
BEGIN:VEVENT
DTSTART;TZID=Europe/Rome:20260314T183000
DTEND;TZID=Europe/Rome:20260314T183000
DTSTAMP:20260421T070600
CREATED:20260305T115530Z
LAST-MODIFIED:20260305T115530Z
UID:40353-1773513000-1773513000@www.diocesidiroma.it
SUMMARY:Santa Messa e visita la parrocchia di San Patrizio
DESCRIPTION:Santa Messa e visita la parrocchia di San Patrizio  \n
URL:https://www.diocesidiroma.it/event/santa-messa-e-visita-la-parrocchia-di-san-patrizio/
CATEGORIES:Vicario Generale
END:VEVENT
END:VCALENDAR