BEGIN:VCALENDAR
VERSION:2.0
PRODID:-//DIOCESI DI ROMA - ECPv4.6.14.1//NONSGML v1.0//EN
CALSCALE:GREGORIAN
METHOD:PUBLISH
X-WR-CALNAME:DIOCESI DI ROMA
X-ORIGINAL-URL:https://www.diocesidiroma.it
X-WR-CALDESC:Eventi per DIOCESI DI ROMA
BEGIN:VEVENT
DTSTART;TZID=Europe/Rome:20251023T163000
DTEND;TZID=Europe/Rome:20251023T163000
DTSTAMP:20260422T161938
CREATED:20251017T095851Z
LAST-MODIFIED:20251017T095851Z
UID:37968-1761237000-1761237000@www.diocesidiroma.it
SUMMARY:Santa Messa in occasione del 150° di fondazione delle Suore Riparatrici
DESCRIPTION:Santa Messa in occasione del 150° di fondazione delle Suore Riparatrici \n
URL:https://www.diocesidiroma.it/event/santa-messa-in-occasione-del-150-di-fondazione-delle-suore-riparatrici/
CATEGORIES:Vicario Generale
END:VEVENT
END:VCALENDAR