BEGIN:VCALENDAR
VERSION:2.0
PRODID:-//DIOCESI DI ROMA - ECPv4.6.14.1//NONSGML v1.0//EN
CALSCALE:GREGORIAN
METHOD:PUBLISH
X-WR-CALNAME:DIOCESI DI ROMA
X-ORIGINAL-URL:https://www.diocesidiroma.it
X-WR-CALDESC:Eventi per DIOCESI DI ROMA
BEGIN:VEVENT
DTSTART;TZID=Europe/Rome:20250612T183000
DTEND;TZID=Europe/Rome:20250612T183000
DTSTAMP:20260422T161940
CREATED:20250605T094333Z
LAST-MODIFIED:20250605T094333Z
UID:35979-1749753000-1749753000@www.diocesidiroma.it
SUMMARY:Santa Messa in occasione del centenario della fondazione del collegio delle Suore Stimmatine a Milano
DESCRIPTION:Santa Messa in occasione del centenario della fondazione del collegio delle Suore Stimmatine a Milano \n
URL:https://www.diocesidiroma.it/event/santa-messa-in-occasione-del-centenario-della-fondazione-del-collegio-delle-suore-stimmatine-a-milano/
CATEGORIES:Vicario Generale
END:VEVENT
END:VCALENDAR