BEGIN:VCALENDAR
VERSION:2.0
PRODID:-//DIOCESI DI ROMA - ECPv4.6.14.1//NONSGML v1.0//EN
CALSCALE:GREGORIAN
METHOD:PUBLISH
X-WR-CALNAME:DIOCESI DI ROMA
X-ORIGINAL-URL:https://www.diocesidiroma.it
X-WR-CALDESC:Eventi per DIOCESI DI ROMA
BEGIN:VEVENT
DTSTART;TZID=Europe/Rome:20251022T090000
DTEND;TZID=Europe/Rome:20251022T090000
DTSTAMP:20260424T040643
CREATED:20251017T095116Z
LAST-MODIFIED:20251017T095116Z
UID:37954-1761123600-1761123600@www.diocesidiroma.it
SUMMARY:Santa Messa in occasione del Giubileo dell’Istituto Giovanni Paolo II (Pontificio Seminario Romano Maggiore)
DESCRIPTION: Santa Messa in occasione del Giubileo dell’Istituto Giovanni Paolo II (Pontificio Seminario Romano Maggiore) \n
URL:https://www.diocesidiroma.it/event/santa-messa-in-occasione-del-giubileo-dellistituto-giovanni-paolo-ii-pontificio-seminario-romano-maggiore/
CATEGORIES:Vicario Generale
END:VEVENT
END:VCALENDAR