BEGIN:VCALENDAR
VERSION:2.0
PRODID:-//DIOCESI DI ROMA - ECPv4.6.14.1//NONSGML v1.0//EN
CALSCALE:GREGORIAN
METHOD:PUBLISH
X-WR-CALNAME:DIOCESI DI ROMA
X-ORIGINAL-URL:https://www.diocesidiroma.it
X-WR-CALDESC:Eventi per DIOCESI DI ROMA
BEGIN:VEVENT
DTSTART;TZID=Europe/Rome:20200209T153000
DTEND;TZID=Europe/Rome:20200209T153000
DTSTAMP:20260421T205832
CREATED:20190925T142650Z
LAST-MODIFIED:20190925T142650Z
UID:8728-1581262200-1581262200@www.diocesidiroma.it
SUMMARY:Santa Messa in occasione della Giornata del malato presieduta dal cardinale vicario al Santuario della Madonna del Divino Amore
DESCRIPTION:Santa Messa in occasione della Giornata del malato presieduta dal cardinale vicario al Santuario della Madonna del Divino Amore. \n
URL:https://www.diocesidiroma.it/event/santa-messa-in-occasione-della-giornata-del-malato-presieduta-dal-cardinale-vicario-al-santuario-della-madonna-del-divino-amore/
CATEGORIES:In Diocesi
END:VEVENT
END:VCALENDAR