BEGIN:VCALENDAR
VERSION:2.0
PRODID:-//DIOCESI DI ROMA - ECPv4.6.14.1//NONSGML v1.0//EN
CALSCALE:GREGORIAN
METHOD:PUBLISH
X-WR-CALNAME:DIOCESI DI ROMA
X-ORIGINAL-URL:https://www.diocesidiroma.it
X-WR-CALDESC:Eventi per DIOCESI DI ROMA
BEGIN:VEVENT
DTSTART;TZID=Europe/Rome:20260226T090000
DTEND;TZID=Europe/Rome:20260226T090000
DTSTAMP:20260421T060514
CREATED:20260219T092056Z
LAST-MODIFIED:20260219T092056Z
UID:40052-1772096400-1772096400@www.diocesidiroma.it
SUMMARY:Santa Messa in occasione dell’inaugurazione dell’Anno Accademico presso l’Università Campus Bio-Medico di Roma
DESCRIPTION:Santa Messa in occasione dell’inaugurazione dell’Anno Accademico presso l’Università Campus Bio-Medico di Roma \n
URL:https://www.diocesidiroma.it/event/santa-messa-in-occasione-dellinaugurazione-dellanno-accademico-presso-luniversita-campus-bio-medico-di-roma/
CATEGORIES:Vicario Generale
END:VEVENT
END:VCALENDAR