BEGIN:VCALENDAR
VERSION:2.0
PRODID:-//DIOCESI DI ROMA - ECPv4.6.14.1//NONSGML v1.0//EN
CALSCALE:GREGORIAN
METHOD:PUBLISH
X-WR-CALNAME:DIOCESI DI ROMA
X-ORIGINAL-URL:https://www.diocesidiroma.it
X-WR-CALDESC:Eventi per DIOCESI DI ROMA
BEGIN:VEVENT
DTSTART;TZID=Europe/Rome:20200305T190000
DTEND;TZID=Europe/Rome:20200305T190000
DTSTAMP:20260422T164519
CREATED:20190925T150750Z
LAST-MODIFIED:20190925T150750Z
UID:8780-1583434800-1583434800@www.diocesidiroma.it
SUMMARY:Santa Messa Laudato si' e catechesi per i missionari di ambiente a Santa Maria ai Monti
DESCRIPTION:Santa Messa Laudato si’ e catechesi per i missionari di ambiente a Santa Maria ai Monti\, a cura del Servizio per la pastorale sociale. \n
URL:https://www.diocesidiroma.it/event/santa-messa-laudato-si-e-catechesi-per-i-missionari-di-ambiente-a-santa-maria-ai-monti-3/
CATEGORIES:Iniziative degli Uffici
END:VEVENT
END:VCALENDAR