BEGIN:VCALENDAR
VERSION:2.0
PRODID:-//DIOCESI DI ROMA - ECPv4.6.14.1//NONSGML v1.0//EN
CALSCALE:GREGORIAN
METHOD:PUBLISH
X-WR-CALNAME:DIOCESI DI ROMA
X-ORIGINAL-URL:https://www.diocesidiroma.it
X-WR-CALDESC:Eventi per DIOCESI DI ROMA
BEGIN:VEVENT
DTSTART;TZID=Europe/Rome:20211011T180000
DTEND;TZID=Europe/Rome:20211011T180000
DTSTAMP:20260423T021840
CREATED:20210929T145310Z
LAST-MODIFIED:20210929T145310Z
UID:18081-1633975200-1633975200@www.diocesidiroma.it
SUMMARY:Santa Messa nei primi vespri della memoria liturgica del beato Carlo Acutis\, presieduta dal cardinale vicario\, nella parrocchia di Santa Angela Merici; a seguire festa dei giovani nel centro giovanile adiacente. A cura del Servizio per la pastorale giovanile
DESCRIPTION:Santa Messa nei primi vespri della memoria liturgica del beato Carlo Acutis\, presieduta dal cardinale vicario\, nella parrocchia di Santa Angela Merici; a seguire festa dei giovani nel centro giovanile adiacente. A cura del Servizio per la pastorale giovanile. \n
URL:https://www.diocesidiroma.it/event/santa-messa-nei-primi-vespri-della-memoria-liturgica-del-beato-carlo-acutis-presieduta-dal-cardinale-vicario-nella-parrocchia-di-santa-angela-merici-a-seguire-festa-dei-giovani-nel-centro-giovanile/
CATEGORIES:Iniziative degli Uffici
END:VEVENT
END:VCALENDAR