BEGIN:VCALENDAR
VERSION:2.0
PRODID:-//DIOCESI DI ROMA - ECPv4.6.14.1//NONSGML v1.0//EN
CALSCALE:GREGORIAN
METHOD:PUBLISH
X-WR-CALNAME:DIOCESI DI ROMA
X-ORIGINAL-URL:https://www.diocesidiroma.it
X-WR-CALDESC:Eventi per DIOCESI DI ROMA
BEGIN:VEVENT
DTSTART;TZID=Europe/Rome:20251018T120000
DTEND;TZID=Europe/Rome:20251018T120000
DTSTAMP:20260424T074502
CREATED:20251010T070206Z
LAST-MODIFIED:20251010T070206Z
UID:37746-1760788800-1760788800@www.diocesidiroma.it
SUMMARY:Santa Messa nella Basilica di San Giovanni in Laterano – Giubileo del mondo accademico e del VII Municipio di Roma
DESCRIPTION:Santa Messa nella Basilica di San Giovanni in Laterano – Giubileo del mondo accademico e del VII Municipio di Roma  \n
URL:https://www.diocesidiroma.it/event/santa-messa-nella-basilica-di-san-giovanni-in-laterano-giubileo-del-mondo-accademico-e-del-vii-municipio-di-roma/
CATEGORIES:Vicario Generale
END:VEVENT
END:VCALENDAR