BEGIN:VCALENDAR
VERSION:2.0
PRODID:-//DIOCESI DI ROMA - ECPv4.6.14.1//NONSGML v1.0//EN
CALSCALE:GREGORIAN
METHOD:PUBLISH
X-WR-CALNAME:DIOCESI DI ROMA
X-ORIGINAL-URL:https://www.diocesidiroma.it
X-WR-CALDESC:Eventi per DIOCESI DI ROMA
BEGIN:VEVENT
DTSTART;TZID=Europe/Rome:20250624T190000
DTEND;TZID=Europe/Rome:20250624T190000
DTSTAMP:20260422T014946
CREATED:20250620T083117Z
LAST-MODIFIED:20250620T083117Z
UID:36173-1750791600-1750791600@www.diocesidiroma.it
SUMMARY:Santa Messa nella basilica di San Giovanni in Laterano in occasione della Solennità della Natività di San Giovanni Battista
DESCRIPTION:Santa Messa nella basilica di San Giovanni in Laterano in occasione della Solennità della Natività di San Giovanni Battista  \n
URL:https://www.diocesidiroma.it/event/santa-messa-nella-basilica-di-san-giovanni-in-laterano-in-occasione-della-solennita-della-nativita-di-san-giovanni-battista/
CATEGORIES:Vicario Generale
END:VEVENT
END:VCALENDAR