BEGIN:VCALENDAR
VERSION:2.0
PRODID:-//DIOCESI DI ROMA - ECPv4.6.14.1//NONSGML v1.0//EN
CALSCALE:GREGORIAN
METHOD:PUBLISH
X-WR-CALNAME:DIOCESI DI ROMA
X-ORIGINAL-URL:https://www.diocesidiroma.it
X-WR-CALDESC:Eventi per DIOCESI DI ROMA
BEGIN:VEVENT
DTSTART;TZID=Europe/Rome:20260415T180000
DTEND;TZID=Europe/Rome:20260415T180000
DTSTAMP:20260421T070602
CREATED:20260410T063830Z
LAST-MODIFIED:20260410T063830Z
UID:40853-1776276000-1776276000@www.diocesidiroma.it
SUMMARY:Santa Messa nella basilica di Santa Prassede
DESCRIPTION:Santa Messa nella basilica di Santa Prassede \n
URL:https://www.diocesidiroma.it/event/santa-messa-nella-basilica-di-santa-prassede/
CATEGORIES:Vicario Generale
END:VEVENT
END:VCALENDAR