BEGIN:VCALENDAR
VERSION:2.0
PRODID:-//DIOCESI DI ROMA - ECPv4.6.14.1//NONSGML v1.0//EN
CALSCALE:GREGORIAN
METHOD:PUBLISH
X-WR-CALNAME:DIOCESI DI ROMA
X-ORIGINAL-URL:https://www.diocesidiroma.it
X-WR-CALDESC:Eventi per DIOCESI DI ROMA
BEGIN:VEVENT
DTSTART;TZID=Europe/Rome:20260325T170000
DTEND;TZID=Europe/Rome:20260325T170000
DTSTAMP:20260421T084056
CREATED:20260320T112607Z
LAST-MODIFIED:20260320T112607Z
UID:40634-1774458000-1774458000@www.diocesidiroma.it
SUMMARY:Santa Messa nella chiesa Sant’Apollinare con il rito di istituzione dei ministeri
DESCRIPTION:Santa Messa nella chiesa Sant’Apollinare con il rito di istituzione dei ministeri  \n
URL:https://www.diocesidiroma.it/event/santa-messa-nella-chiesa-santapollinare-con-il-rito-di-istituzione-dei-ministeri/
CATEGORIES:Vicario Generale
END:VEVENT
END:VCALENDAR