BEGIN:VCALENDAR
VERSION:2.0
PRODID:-//DIOCESI DI ROMA - ECPv4.6.14.1//NONSGML v1.0//EN
CALSCALE:GREGORIAN
METHOD:PUBLISH
X-WR-CALNAME:DIOCESI DI ROMA
X-ORIGINAL-URL:https://www.diocesidiroma.it
X-WR-CALDESC:Eventi per DIOCESI DI ROMA
BEGIN:VEVENT
DTSTART;TZID=Europe/Rome:20251221T120000
DTEND;TZID=Europe/Rome:20251221T130000
DTSTAMP:20260423T180508
CREATED:20251212T135558Z
LAST-MODIFIED:20251212T135558Z
UID:39089-1766318400-1766322000@www.diocesidiroma.it
SUMMARY:Santa Messa nella parrocchia Assunzione di Maria
DESCRIPTION:Santa Messa nella parrocchia Assunzione di Maria con il rito dell’immissione canonica del nuovo parroco. \n
URL:https://www.diocesidiroma.it/event/santa-messa-nella-parrocchia-assunzione-di-maria/
CATEGORIES:Vicario Generale
END:VEVENT
END:VCALENDAR