BEGIN:VCALENDAR
VERSION:2.0
PRODID:-//DIOCESI DI ROMA - ECPv4.6.14.1//NONSGML v1.0//EN
CALSCALE:GREGORIAN
METHOD:PUBLISH
X-WR-CALNAME:DIOCESI DI ROMA
X-ORIGINAL-URL:https://www.diocesidiroma.it
X-WR-CALDESC:Eventi per DIOCESI DI ROMA
BEGIN:VEVENT
DTSTART;TZID=Europe/Rome:20250518T183000
DTEND;TZID=Europe/Rome:20250518T183000
DTSTAMP:20260424T141309
CREATED:20250509T073424Z
LAST-MODIFIED:20250509T073424Z
UID:35543-1747593000-1747593000@www.diocesidiroma.it
SUMMARY:Santa Messa nella parrocchia di Santa Gemma Galgani
DESCRIPTION:Santa Messa nella parrocchia di Santa Gemma Galgani \n
URL:https://www.diocesidiroma.it/event/santa-messa-nella-parrocchia-di-santa-gemma-galgani/
CATEGORIES:Vicario Generale
END:VEVENT
END:VCALENDAR