BEGIN:VCALENDAR
VERSION:2.0
PRODID:-//DIOCESI DI ROMA - ECPv4.6.14.1//NONSGML v1.0//EN
CALSCALE:GREGORIAN
METHOD:PUBLISH
X-WR-CALNAME:DIOCESI DI ROMA
X-ORIGINAL-URL:https://www.diocesidiroma.it
X-WR-CALDESC:Eventi per DIOCESI DI ROMA
BEGIN:VEVENT
DTSTART;TZID=Europe/Rome:20251221T180000
DTEND;TZID=Europe/Rome:20251221T193000
DTSTAMP:20260423T180603
CREATED:20251212T135712Z
LAST-MODIFIED:20251212T135712Z
UID:39091-1766340000-1766345400@www.diocesidiroma.it
SUMMARY:Santa Messa nella parrocchia Gesù Divino Lavoratore
DESCRIPTION:Santa Messa nella parrocchia Gesù Divino Lavoratore \n
URL:https://www.diocesidiroma.it/event/santa-messa-nella-parrocchia-gesu-divino-lavoratore/
CATEGORIES:Vicario Generale
END:VEVENT
END:VCALENDAR