BEGIN:VCALENDAR
VERSION:2.0
PRODID:-//DIOCESI DI ROMA - ECPv4.6.14.1//NONSGML v1.0//EN
CALSCALE:GREGORIAN
METHOD:PUBLISH
X-WR-CALNAME:DIOCESI DI ROMA
X-ORIGINAL-URL:https://www.diocesidiroma.it
X-WR-CALDESC:Eventi per DIOCESI DI ROMA
BEGIN:VEVENT
DTSTART;TZID=Europe/Rome:20251109T160000
DTEND;TZID=Europe/Rome:20251109T160000
DTSTAMP:20260423T164319
CREATED:20251031T095201Z
LAST-MODIFIED:20251031T095201Z
UID:38340-1762704000-1762704000@www.diocesidiroma.it
SUMMARY:Santa Messa nella parrocchia Nostra Signora de La Salette
DESCRIPTION:Santa Messa nella parrocchia Nostra Signora de La Salette \n
URL:https://www.diocesidiroma.it/event/santa-messa-nella-parrocchia-nostra-signora-de-la-salette/
CATEGORIES:Vicario Generale
END:VEVENT
END:VCALENDAR