BEGIN:VCALENDAR
VERSION:2.0
PRODID:-//DIOCESI DI ROMA - ECPv4.6.14.1//NONSGML v1.0//EN
CALSCALE:GREGORIAN
METHOD:PUBLISH
X-WR-CALNAME:DIOCESI DI ROMA
X-ORIGINAL-URL:https://www.diocesidiroma.it
X-WR-CALDESC:Eventi per DIOCESI DI ROMA
BEGIN:VEVENT
DTSTART;TZID=Europe/Rome:20260302T183000
DTEND;TZID=Europe/Rome:20260302T183000
DTSTAMP:20260421T052634
CREATED:20260226T104818Z
LAST-MODIFIED:20260226T104818Z
UID:40195-1772476200-1772476200@www.diocesidiroma.it
SUMMARY:Santa Messa nella parrocchia Resurrezione di Nostro Signore Gesù Cristo
DESCRIPTION:Santa Messa nella parrocchia Resurrezione di Nostro Signore Gesù Cristo \n
URL:https://www.diocesidiroma.it/event/santa-messa-nella-parrocchia-resurrezione-di-nostro-signore-gesu-cristo/
CATEGORIES:Vicario Generale
END:VEVENT
END:VCALENDAR