BEGIN:VCALENDAR
VERSION:2.0
PRODID:-//DIOCESI DI ROMA - ECPv4.6.14.1//NONSGML v1.0//EN
CALSCALE:GREGORIAN
METHOD:PUBLISH
X-WR-CALNAME:DIOCESI DI ROMA
X-ORIGINAL-URL:https://www.diocesidiroma.it
X-WR-CALDESC:Eventi per DIOCESI DI ROMA
BEGIN:VEVENT
DTSTART;TZID=Europe/Rome:20260129T183000
DTEND;TZID=Europe/Rome:20260129T183000
DTSTAMP:20260422T000104
CREATED:20260123T100704Z
LAST-MODIFIED:20260123T100704Z
UID:39611-1769711400-1769711400@www.diocesidiroma.it
SUMMARY:Santa Messa nella parrocchia San Corbiniano
DESCRIPTION:Santa Messa nella parrocchia San Corbiniano \n
URL:https://www.diocesidiroma.it/event/santa-messa-nella-parrocchia-san-corbiniano/
CATEGORIES:Vicario Generale
END:VEVENT
END:VCALENDAR