BEGIN:VCALENDAR
VERSION:2.0
PRODID:-//DIOCESI DI ROMA - ECPv4.6.14.1//NONSGML v1.0//EN
CALSCALE:GREGORIAN
METHOD:PUBLISH
X-WR-CALNAME:DIOCESI DI ROMA
X-ORIGINAL-URL:https://www.diocesidiroma.it
X-WR-CALDESC:Eventi per DIOCESI DI ROMA
BEGIN:VEVENT
DTSTART;TZID=Europe/Rome:20251108T103000
DTEND;TZID=Europe/Rome:20251108T103000
DTSTAMP:20260425T110910
CREATED:20251031T094846Z
LAST-MODIFIED:20251031T094846Z
UID:38330-1762597800-1762597800@www.diocesidiroma.it
SUMMARY:Santa Messa nella parrocchia San Gaspare del Bufalo
DESCRIPTION:Santa Messa nella parrocchia San Gaspare del Bufalo \n
URL:https://www.diocesidiroma.it/event/santa-messa-nella-parrocchia-san-gaspare-del-bufalo-2/
CATEGORIES:Vicario Generale
END:VEVENT
END:VCALENDAR