BEGIN:VCALENDAR
VERSION:2.0
PRODID:-//DIOCESI DI ROMA - ECPv4.6.14.1//NONSGML v1.0//EN
CALSCALE:GREGORIAN
METHOD:PUBLISH
X-WR-CALNAME:DIOCESI DI ROMA
X-ORIGINAL-URL:https://www.diocesidiroma.it
X-WR-CALDESC:Eventi per DIOCESI DI ROMA
BEGIN:VEVENT
DTSTART;TZID=Europe/Rome:20251022T183000
DTEND;TZID=Europe/Rome:20251022T183000
DTSTAMP:20260424T014424
CREATED:20251017T095309Z
LAST-MODIFIED:20251017T095309Z
UID:37960-1761157800-1761157800@www.diocesidiroma.it
SUMMARY:Santa Messa nella parrocchia San Gaspare del Bufalo
DESCRIPTION:Santa Messa nella parrocchia San Gaspare del Bufalo \n
URL:https://www.diocesidiroma.it/event/santa-messa-nella-parrocchia-san-gaspare-del-bufalo/
CATEGORIES:Vicario Generale
END:VEVENT
END:VCALENDAR