BEGIN:VCALENDAR
VERSION:2.0
PRODID:-//DIOCESI DI ROMA - ECPv4.6.14.1//NONSGML v1.0//EN
CALSCALE:GREGORIAN
METHOD:PUBLISH
X-WR-CALNAME:DIOCESI DI ROMA
X-ORIGINAL-URL:https://www.diocesidiroma.it
X-WR-CALDESC:Eventi per DIOCESI DI ROMA
BEGIN:VEVENT
DTSTART;TZID=Europe/Rome:20250601T183000
DTEND;TZID=Europe/Rome:20250601T183000
DTSTAMP:20260422T233942
CREATED:20250523T092605Z
LAST-MODIFIED:20250523T092605Z
UID:35806-1748802600-1748802600@www.diocesidiroma.it
SUMMARY:Santa Messa nella parrocchia San Giovanni della Croce
DESCRIPTION:Santa Messa nella parrocchia San Giovanni della Croce \n
URL:https://www.diocesidiroma.it/event/santa-messa-nella-parrocchia-san-giovanni-della-croce/
CATEGORIES:Vicario Generale
END:VEVENT
END:VCALENDAR