BEGIN:VCALENDAR
VERSION:2.0
PRODID:-//DIOCESI DI ROMA - ECPv4.6.14.1//NONSGML v1.0//EN
CALSCALE:GREGORIAN
METHOD:PUBLISH
X-WR-CALNAME:DIOCESI DI ROMA
X-ORIGINAL-URL:https://www.diocesidiroma.it
X-WR-CALDESC:Eventi per DIOCESI DI ROMA
BEGIN:VEVENT
DTSTART;TZID=Europe/Rome:20251018T180000
DTEND;TZID=Europe/Rome:20251018T180000
DTSTAMP:20260422T002327
CREATED:20251010T070343Z
LAST-MODIFIED:20251010T070343Z
UID:37750-1760810400-1760810400@www.diocesidiroma.it
SUMMARY:Santa Messa nella parrocchia San Luca in occasione della festa patronale e con il rito dell’immissione canonica del nuovo parroco
DESCRIPTION:Santa Messa nella parrocchia San Luca in occasione della festa patronale e con il rito dell’immissione canonica del nuovo parroco \n
URL:https://www.diocesidiroma.it/event/santa-messa-nella-parrocchia-san-luca-in-occasione-della-festa-patronale-e-con-il-rito-dellimmissione-canonica-del-nuovo-parroco/
CATEGORIES:Vicario Generale
END:VEVENT
END:VCALENDAR