BEGIN:VCALENDAR
VERSION:2.0
PRODID:-//DIOCESI DI ROMA - ECPv4.6.14.1//NONSGML v1.0//EN
CALSCALE:GREGORIAN
METHOD:PUBLISH
X-WR-CALNAME:DIOCESI DI ROMA
X-ORIGINAL-URL:https://www.diocesidiroma.it
X-WR-CALDESC:Eventi per DIOCESI DI ROMA
BEGIN:VEVENT
DTSTART;TZID=Europe/Rome:20260228T180000
DTEND;TZID=Europe/Rome:20260228T180000
DTSTAMP:20260421T165156
CREATED:20260219T094056Z
LAST-MODIFIED:20260219T094316Z
UID:40068-1772301600-1772301600@www.diocesidiroma.it
SUMMARY:Santa Messa nella parrocchia San Nicola da Bari (Mentana)
DESCRIPTION:Santa Messa nella parrocchia San Nicola da Bari (Mentana) \n
URL:https://www.diocesidiroma.it/event/santa-messa-nella-parrocchia-san-nicola-da-bari-mentana/
CATEGORIES:Vicario Generale
END:VEVENT
END:VCALENDAR