BEGIN:VCALENDAR
VERSION:2.0
PRODID:-//DIOCESI DI ROMA - ECPv4.6.14.1//NONSGML v1.0//EN
CALSCALE:GREGORIAN
METHOD:PUBLISH
X-WR-CALNAME:DIOCESI DI ROMA
X-ORIGINAL-URL:https://www.diocesidiroma.it
X-WR-CALDESC:Eventi per DIOCESI DI ROMA
BEGIN:VEVENT
DTSTART;TZID=Europe/Rome:20251123T120000
DTEND;TZID=Europe/Rome:20251123T120000
DTSTAMP:20260421T073548
CREATED:20251114T094012Z
LAST-MODIFIED:20251114T094012Z
UID:38589-1763899200-1763899200@www.diocesidiroma.it
SUMMARY:Santa Messa nella parrocchia San Saturnino
DESCRIPTION:Santa Messa nella parrocchia San Saturnino \n
URL:https://www.diocesidiroma.it/event/santa-messa-nella-parrocchia-san-saturnino/
CATEGORIES:Vicario Generale
END:VEVENT
END:VCALENDAR