BEGIN:VCALENDAR
VERSION:2.0
PRODID:-//DIOCESI DI ROMA - ECPv4.6.14.1//NONSGML v1.0//EN
CALSCALE:GREGORIAN
METHOD:PUBLISH
X-WR-CALNAME:DIOCESI DI ROMA
X-ORIGINAL-URL:https://www.diocesidiroma.it
X-WR-CALDESC:Eventi per DIOCESI DI ROMA
BEGIN:VEVENT
DTSTART;TZID=Europe/Rome:20250531T170000
DTEND;TZID=Europe/Rome:20250531T170000
DTSTAMP:20260424T014348
CREATED:20250523T092120Z
LAST-MODIFIED:20250523T092120Z
UID:35798-1748710800-1748710800@www.diocesidiroma.it
SUMMARY:Santa Messa nella parrocchia Santa Maria Consolatrice
DESCRIPTION:Santa Messa nella parrocchia Santa Maria Consolatrice \n
URL:https://www.diocesidiroma.it/event/santa-messa-nella-parrocchia-santa-maria-consolatrice/
CATEGORIES:Vicario Generale
END:VEVENT
END:VCALENDAR