BEGIN:VCALENDAR
VERSION:2.0
PRODID:-//DIOCESI DI ROMA - ECPv4.6.14.1//NONSGML v1.0//EN
CALSCALE:GREGORIAN
METHOD:PUBLISH
X-WR-CALNAME:DIOCESI DI ROMA
X-ORIGINAL-URL:https://www.diocesidiroma.it
X-WR-CALDESC:Eventi per DIOCESI DI ROMA
BEGIN:VEVENT
DTSTART;TZID=Europe/Rome:20251018T160000
DTEND;TZID=Europe/Rome:20251018T160000
DTSTAMP:20260424T160950
CREATED:20251010T070257Z
LAST-MODIFIED:20251010T070257Z
UID:37748-1760803200-1760803200@www.diocesidiroma.it
SUMMARY:Santa Messa nella parrocchia Santa Maria del Rosario in Prati
DESCRIPTION:Santa Messa nella parrocchia Santa Maria del Rosario in Prati  \n
URL:https://www.diocesidiroma.it/event/santa-messa-nella-parrocchia-santa-maria-del-rosario-in-prati/
CATEGORIES:Vicario Generale
END:VEVENT
END:VCALENDAR