BEGIN:VCALENDAR
VERSION:2.0
PRODID:-//DIOCESI DI ROMA - ECPv4.6.14.1//NONSGML v1.0//EN
CALSCALE:GREGORIAN
METHOD:PUBLISH
X-WR-CALNAME:DIOCESI DI ROMA
X-ORIGINAL-URL:https://www.diocesidiroma.it
X-WR-CALDESC:Eventi per DIOCESI DI ROMA
BEGIN:VEVENT
DTSTART;TZID=Europe/Rome:20251207T160000
DTEND;TZID=Europe/Rome:20251207T160000
DTSTAMP:20260424T074319
CREATED:20251127T132707Z
LAST-MODIFIED:20251127T132707Z
UID:38849-1765123200-1765123200@www.diocesidiroma.it
SUMMARY:Santa Messa nella parrocchia Santi Francesco e Caterina Patroni d'Italia
DESCRIPTION:Santa Messa nella parrocchia Santi Francesco e Caterina Patroni d’Italia \n
URL:https://www.diocesidiroma.it/event/santa-messa-nella-parrocchia-santi-francesco-e-caterina-patroni-ditalia/
CATEGORIES:Vicario Generale
END:VEVENT
END:VCALENDAR