BEGIN:VCALENDAR
VERSION:2.0
PRODID:-//DIOCESI DI ROMA - ECPv4.6.14.1//NONSGML v1.0//EN
CALSCALE:GREGORIAN
METHOD:PUBLISH
X-WR-CALNAME:DIOCESI DI ROMA
X-ORIGINAL-URL:https://www.diocesidiroma.it
X-WR-CALDESC:Eventi per DIOCESI DI ROMA
BEGIN:VEVENT
DTSTART;TZID=Europe/Rome:20250622T103000
DTEND;TZID=Europe/Rome:20250622T103000
DTSTAMP:20260423T181727
CREATED:20250616T073538Z
LAST-MODIFIED:20250616T073615Z
UID:36120-1750588200-1750588200@www.diocesidiroma.it
SUMMARY:Santa Messa nella parrocchia Sant'Ireneo a Centocelle
DESCRIPTION:Santa Messa nella parrocchia Sant’Ireneo a Centocelle \n
URL:https://www.diocesidiroma.it/event/santa-messa-nella-parrocchia-santireneo-a-centocelle/
CATEGORIES:Vicario Generale
END:VEVENT
END:VCALENDAR