BEGIN:VCALENDAR
VERSION:2.0
PRODID:-//DIOCESI DI ROMA - ECPv4.6.14.1//NONSGML v1.0//EN
CALSCALE:GREGORIAN
METHOD:PUBLISH
X-WR-CALNAME:DIOCESI DI ROMA
X-ORIGINAL-URL:https://www.diocesidiroma.it
X-WR-CALDESC:Eventi per DIOCESI DI ROMA
BEGIN:VEVENT
DTSTART;TZID=Europe/Rome:20221105T173000
DTEND;TZID=Europe/Rome:20221105T173000
DTSTAMP:20260422T130943
CREATED:20221014T102937Z
LAST-MODIFIED:20221014T102937Z
UID:23561-1667669400-1667669400@www.diocesidiroma.it
SUMMARY:Santa Messa per i presbiteri e per i diaconi della Diocesi di Roma defunti nell'anno 2022\, presieduta dal Cardinale Vicario - Basilica di San Giovanni in Laterano
DESCRIPTION:Santa Messa per i presbiteri e per i diaconi della Diocesi di Roma defunti nell’anno 2022\, presieduta dal Cardinale Vicario – Basilica di San Giovanni in Laterano \n
URL:https://www.diocesidiroma.it/event/santa-messa-per-i-presbiteri-e-per-i-diaconi-della-diocesi-di-roma-defunti-nellanno-2022-presieduta-dal-cardinale-vicario-basilica-di-san-giovanni-in-laterano/
CATEGORIES:In Diocesi
END:VEVENT
END:VCALENDAR