BEGIN:VCALENDAR
VERSION:2.0
PRODID:-//DIOCESI DI ROMA - ECPv4.6.14.1//NONSGML v1.0//EN
CALSCALE:GREGORIAN
METHOD:PUBLISH
X-WR-CALNAME:DIOCESI DI ROMA
X-ORIGINAL-URL:https://www.diocesidiroma.it
X-WR-CALDESC:Eventi per DIOCESI DI ROMA
BEGIN:VEVENT
DTSTART;TZID=Europe/Rome:20250930T163000
DTEND;TZID=Europe/Rome:20250930T163000
DTSTAMP:20260424T014359
CREATED:20250926T090618Z
LAST-MODIFIED:20250926T090618Z
UID:37396-1759249800-1759249800@www.diocesidiroma.it
SUMMARY:Santa Messa per la chiusura del capitolo generale delle Suore Missionarie di San Pietro Claver
DESCRIPTION:Santa Messa per la chiusura del capitolo generale delle Suore Missionarie di San Pietro Claver \n
URL:https://www.diocesidiroma.it/event/santa-messa-per-la-chiusura-del-capitolo-generale-delle-suore-missionarie-di-san-pietro-claver/
CATEGORIES:Vicario Generale
END:VEVENT
END:VCALENDAR