BEGIN:VCALENDAR
VERSION:2.0
PRODID:-//DIOCESI DI ROMA - ECPv4.6.14.1//NONSGML v1.0//EN
CALSCALE:GREGORIAN
METHOD:PUBLISH
X-WR-CALNAME:DIOCESI DI ROMA
X-ORIGINAL-URL:https://www.diocesidiroma.it
X-WR-CALDESC:Eventi per DIOCESI DI ROMA
BEGIN:VEVENT
DTSTART;TZID=Europe/Rome:20221208T160000
DTEND;TZID=Europe/Rome:20221208T160000
DTSTAMP:20260425T030300
CREATED:20221128T100354Z
LAST-MODIFIED:20221128T100354Z
UID:24296-1670515200-1670515200@www.diocesidiroma.it
SUMMARY:Santa Messa per la Festa della Comunità Romena di Rito Latino - Parrocchia Santi Vitale e Compagni Martiri (Uff. Migrantes)
DESCRIPTION:Santa Messa per la Festa della Comunità Romena di Rito Latino – Parrocchia Santi Vitale e Compagni Martiri (Uff. Migrantes) \n
URL:https://www.diocesidiroma.it/event/santa-messa-per-la-festa-della-comunita-romena-di-rito-latino-parrocchia-santi-vitale-e-compagni-martiri-uff-migrantes/
CATEGORIES:Iniziative degli Uffici
END:VEVENT
END:VCALENDAR