BEGIN:VCALENDAR
VERSION:2.0
PRODID:-//DIOCESI DI ROMA - ECPv4.6.14.1//NONSGML v1.0//EN
CALSCALE:GREGORIAN
METHOD:PUBLISH
X-WR-CALNAME:DIOCESI DI ROMA
X-ORIGINAL-URL:https://www.diocesidiroma.it
X-WR-CALDESC:Eventi per DIOCESI DI ROMA
BEGIN:VEVENT
DTSTART;TZID=Europe/Rome:20230326T110000
DTEND;TZID=Europe/Rome:20230326T110000
DTSTAMP:20260422T002358
CREATED:20230302T092008Z
LAST-MODIFIED:20230302T092008Z
UID:25537-1679828400-1679828400@www.diocesidiroma.it
SUMMARY:Santa Messa per la Festa di San Romero della Comunità Latinoamericana - Chiesa Santa Maria della Luce (Uff. Migrantes)
DESCRIPTION:Santa Messa per la Festa di San Romero della Comunità Latinoamericana – Chiesa Santa Maria della Luce (Uff. Migrantes) \n
URL:https://www.diocesidiroma.it/event/santa-messa-per-la-festa-di-san-romero-della-comunita-latinoamericana-chiesa-santa-maria-della-luce-uff-migrantes/
CATEGORIES:In Diocesi,Iniziative degli Uffici
END:VEVENT
END:VCALENDAR