BEGIN:VCALENDAR
VERSION:2.0
PRODID:-//DIOCESI DI ROMA - ECPv4.6.14.1//NONSGML v1.0//EN
CALSCALE:GREGORIAN
METHOD:PUBLISH
X-WR-CALNAME:DIOCESI DI ROMA
X-ORIGINAL-URL:https://www.diocesidiroma.it
X-WR-CALDESC:Eventi per DIOCESI DI ROMA
BEGIN:VEVENT
DTSTART;TZID=Europe/Rome:20230311T000000
DTEND;TZID=Europe/Rome:20230311T000000
DTSTAMP:20260420T200424
CREATED:20230301T155926Z
LAST-MODIFIED:20230301T155926Z
UID:25500-1678492800-1678492800@www.diocesidiroma.it
SUMMARY:Santa Messa per la giornata mensile del malato presieduta da S.E. Mons. Paolo Ricciardi - in una parrocchia (Uff. Past. Sanitaria)
DESCRIPTION:Santa Messa per la giornata mensile del malato presieduta da S.E. Mons. Paolo Ricciardi – in una parrocchia (Uff. Past. Sanitaria) \n
URL:https://www.diocesidiroma.it/event/santa-messa-per-la-giornata-mensile-del-malato-presieduta-da-s-e-mons-paolo-ricciardi-in-una-parrocchia-uff-past-sanitaria/
CATEGORIES:In Diocesi,Iniziative degli Uffici
END:VEVENT
END:VCALENDAR