BEGIN:VCALENDAR
VERSION:2.0
PRODID:-//DIOCESI DI ROMA - ECPv4.6.14.1//NONSGML v1.0//EN
CALSCALE:GREGORIAN
METHOD:PUBLISH
X-WR-CALNAME:DIOCESI DI ROMA
X-ORIGINAL-URL:https://www.diocesidiroma.it
X-WR-CALDESC:Eventi per DIOCESI DI ROMA
BEGIN:VEVENT
DTSTART;TZID=Europe/Rome:20230411T000000
DTEND;TZID=Europe/Rome:20230411T000000
DTSTAMP:20260424T202350
CREATED:20230330T100425Z
LAST-MODIFIED:20230330T100425Z
UID:25866-1681171200-1681171200@www.diocesidiroma.it
SUMMARY:Santa Messa per la giornata mensile del malato (Uff. Past. Sanitaria)
DESCRIPTION:Santa Messa per la giornata mensile del malato (Uff. Past. Sanitaria) \n
URL:https://www.diocesidiroma.it/event/santa-messa-per-la-giornata-mensile-del-malato-uff-past-sanitaria/
CATEGORIES:In Diocesi,Iniziative degli Uffici
END:VEVENT
END:VCALENDAR