BEGIN:VCALENDAR
VERSION:2.0
PRODID:-//DIOCESI DI ROMA - ECPv4.6.14.1//NONSGML v1.0//EN
CALSCALE:GREGORIAN
METHOD:PUBLISH
X-WR-CALNAME:DIOCESI DI ROMA
X-ORIGINAL-URL:https://www.diocesidiroma.it
X-WR-CALDESC:Eventi per DIOCESI DI ROMA
BEGIN:VEVENT
DTSTART;TZID=Europe/Rome:20191117T100000
DTEND;TZID=Europe/Rome:20191117T100000
DTSTAMP:20260422T092529
CREATED:20190917T121719Z
LAST-MODIFIED:20190917T121719Z
UID:8543-1573984800-1573984800@www.diocesidiroma.it
SUMMARY:Santa Messa per la Giornata mondiale dei poveri presieduta dal Santo Padre nella basilica di San Pietro
DESCRIPTION:Santa Messa per la Giornata mondiale dei poveri presieduta dal Santo Padre nella basilica di San Pietro. \n
URL:https://www.diocesidiroma.it/event/santa-messa-per-la-giornata-mondiale-dei-poveri-presieduta-dal-santo-padre-nella-basilica-di-san-pietro/
CATEGORIES:Celebrazioni del Santo Padre
END:VEVENT
END:VCALENDAR