BEGIN:VCALENDAR
VERSION:2.0
PRODID:-//DIOCESI DI ROMA - ECPv4.6.14.1//NONSGML v1.0//EN
CALSCALE:GREGORIAN
METHOD:PUBLISH
X-WR-CALNAME:DIOCESI DI ROMA
X-ORIGINAL-URL:https://www.diocesidiroma.it
X-WR-CALDESC:Eventi per DIOCESI DI ROMA
BEGIN:VEVENT
DTSTART;TZID=Europe/Rome:20250409T093000
DTEND;TZID=Europe/Rome:20250409T093000
DTSTAMP:20260420T214042
CREATED:20250404T093842Z
LAST-MODIFIED:20250404T093842Z
UID:34972-1744191000-1744191000@www.diocesidiroma.it
SUMMARY:Santa Messa per l’amministrazione e i dipendenti dell’Aeroporto Internazionale “Leonardo da Vinci”
DESCRIPTION:Santa Messa per l’amministrazione e i dipendenti dell’Aeroporto Internazionale “Leonardo da Vinci”  \n
URL:https://www.diocesidiroma.it/event/santa-messa-per-lamministrazione-e-i-dipendenti-dellaeroporto-internazionale-leonardo-da-vinci/
CATEGORIES:Vicario Generale
END:VEVENT
END:VCALENDAR