BEGIN:VCALENDAR
VERSION:2.0
PRODID:-//DIOCESI DI ROMA - ECPv4.6.14.1//NONSGML v1.0//EN
CALSCALE:GREGORIAN
METHOD:PUBLISH
X-WR-CALNAME:DIOCESI DI ROMA
X-ORIGINAL-URL:https://www.diocesidiroma.it
X-WR-CALDESC:Eventi per DIOCESI DI ROMA
BEGIN:VEVENT
DTSTART;TZID=Europe/Rome:20250214T183000
DTEND;TZID=Europe/Rome:20250214T183000
DTSTAMP:20260424T222335
CREATED:20250207T085659Z
LAST-MODIFIED:20250207T085659Z
UID:33738-1739557800-1739557800@www.diocesidiroma.it
SUMMARY:Santa Messa per l’ammissione agli ordini sacri presso il Collegio Diocesano “Redemptoris Mater”
DESCRIPTION:Santa Messa per l’ammissione agli ordini sacri presso il Collegio Diocesano “Redemptoris Mater” \n
URL:https://www.diocesidiroma.it/event/santa-messa-per-lammissione-agli-ordini-sacri-presso-il-collegio-diocesano-redemptoris-mater/
CATEGORIES:Vicario Generale
END:VEVENT
END:VCALENDAR