BEGIN:VCALENDAR
VERSION:2.0
PRODID:-//DIOCESI DI ROMA - ECPv4.6.14.1//NONSGML v1.0//EN
CALSCALE:GREGORIAN
METHOD:PUBLISH
X-WR-CALNAME:DIOCESI DI ROMA
X-ORIGINAL-URL:https://www.diocesidiroma.it
X-WR-CALDESC:Eventi per DIOCESI DI ROMA
BEGIN:VEVENT
DTSTART;TZID=Europe/Rome:20251001T133000
DTEND;TZID=Europe/Rome:20251001T133000
DTSTAMP:20260423T182422
CREATED:20250926T090959Z
LAST-MODIFIED:20250926T090959Z
UID:37403-1759325400-1759325400@www.diocesidiroma.it
SUMMARY:Santa Messa per l’apertura dell’anno accademico dell’Università La Sapienza
DESCRIPTION:Santa Messa per l’apertura dell’anno accademico dell’Università La Sapienza \n
URL:https://www.diocesidiroma.it/event/santa-messa-per-lapertura-dellanno-accademico-delluniversita-la-sapienza/
CATEGORIES:Vicario Generale
END:VEVENT
END:VCALENDAR