BEGIN:VCALENDAR
VERSION:2.0
PRODID:-//DIOCESI DI ROMA - ECPv4.6.14.1//NONSGML v1.0//EN
CALSCALE:GREGORIAN
METHOD:PUBLISH
X-WR-CALNAME:DIOCESI DI ROMA
X-ORIGINAL-URL:https://www.diocesidiroma.it
X-WR-CALDESC:Eventi per DIOCESI DI ROMA
BEGIN:VEVENT
DTSTART;TZID=Europe/Rome:20191124T160000
DTEND;TZID=Europe/Rome:20191124T160000
DTSTAMP:20260423T113433
CREATED:20191118T081607Z
LAST-MODIFIED:20191118T081607Z
UID:9293-1574611200-1574611200@www.diocesidiroma.it
SUMMARY:Santa Messa per le vittime della strada al Divino Amore
DESCRIPTION:Santa Messa per le vittime della strada al Divino Amore\, a cura del Centro per la pastorale sanitaria.  \n
URL:https://www.diocesidiroma.it/event/santa-messa-per-le-vittime-della-strada-al-divino-amore/
CATEGORIES:Iniziative degli Uffici
END:VEVENT
END:VCALENDAR