BEGIN:VCALENDAR
VERSION:2.0
PRODID:-//DIOCESI DI ROMA - ECPv4.6.14.1//NONSGML v1.0//EN
CALSCALE:GREGORIAN
METHOD:PUBLISH
X-WR-CALNAME:DIOCESI DI ROMA
X-ORIGINAL-URL:https://www.diocesidiroma.it
X-WR-CALDESC:Eventi per DIOCESI DI ROMA
BEGIN:VEVENT
DTSTART;TZID=Europe/Rome:20191124T160000
DTEND;TZID=Europe/Rome:20191124T160000
DTSTAMP:20260423T201413
CREATED:20190917T124848Z
LAST-MODIFIED:20190917T124848Z
UID:8565-1574611200-1574611200@www.diocesidiroma.it
SUMMARY:Santa Messa per le vittime della strada al Santuario del Divino Amore
DESCRIPTION:Santa Messa per le vittime della strada al Santuario del Divino Amore\, a cura del Centro diocesano per la pastorale sanitaria. \n
URL:https://www.diocesidiroma.it/event/santa-messa-per-le-vittime-della-strada-al-santuario-del-divino-amore/
CATEGORIES:Iniziative degli Uffici
END:VEVENT
END:VCALENDAR